BEGIN:VCALENDAR
VERSION:2.0
PRODID:SchoolNow
CALSCALE:GREGORIAN
BEGIN:VEVENT
UID:99f1eade-32b2-11f1-8983-0a58a9feac02
DTSTAMP:20260424T122009Z
SUMMARY:Symphonic & Jazz Band Concert @ LHS
URL;VALUE=URI:https://www.ogschool.org/calendar/8977676/symphonic-jazz-band
 -concert-lhs
DTSTART:20260429T233000Z
DTEND:20260430T023000Z
END:VEVENT
END:VCALENDAR
