BEGIN:VCALENDAR
VERSION:2.0
PRODID:SchoolNow
CALSCALE:GREGORIAN
BEGIN:VEVENT
UID:1dd20940-3c42-11f1-9e26-0a58a9feac02
DTSTAMP:20260425T124009Z
SUMMARY:Variety Show
URL;VALUE=URI:https://www.ogschool.org/calendar/9005680/variety-show
DTSTART:20260501T210000Z
DTEND:20260502T010000Z
END:VEVENT
END:VCALENDAR
